BEGIN:VCALENDAR
VERSION:2.0
PRODID:-//Quinte &amp; Sens - ECPv6.15.20//NONSGML v1.0//EN
CALSCALE:GREGORIAN
METHOD:PUBLISH
X-ORIGINAL-URL:https://www.quinte-et-sens.org
X-WR-CALDESC:Évènements pour Quinte &amp; Sens
REFRESH-INTERVAL;VALUE=DURATION:PT1H
X-Robots-Tag:noindex
X-PUBLISHED-TTL:PT1H
BEGIN:VTIMEZONE
TZID:Europe/Paris
BEGIN:DAYLIGHT
TZOFFSETFROM:+0100
TZOFFSETTO:+0200
TZNAME:CEST
DTSTART:20210328T010000
END:DAYLIGHT
BEGIN:STANDARD
TZOFFSETFROM:+0200
TZOFFSETTO:+0100
TZNAME:CET
DTSTART:20211031T010000
END:STANDARD
BEGIN:DAYLIGHT
TZOFFSETFROM:+0100
TZOFFSETTO:+0200
TZNAME:CEST
DTSTART:20220327T010000
END:DAYLIGHT
BEGIN:STANDARD
TZOFFSETFROM:+0200
TZOFFSETTO:+0100
TZNAME:CET
DTSTART:20221030T010000
END:STANDARD
BEGIN:DAYLIGHT
TZOFFSETFROM:+0100
TZOFFSETTO:+0200
TZNAME:CEST
DTSTART:20230326T010000
END:DAYLIGHT
BEGIN:STANDARD
TZOFFSETFROM:+0200
TZOFFSETTO:+0100
TZNAME:CET
DTSTART:20231029T010000
END:STANDARD
BEGIN:DAYLIGHT
TZOFFSETFROM:+0100
TZOFFSETTO:+0200
TZNAME:CEST
DTSTART:20240331T010000
END:DAYLIGHT
BEGIN:STANDARD
TZOFFSETFROM:+0200
TZOFFSETTO:+0100
TZNAME:CET
DTSTART:20241027T010000
END:STANDARD
BEGIN:DAYLIGHT
TZOFFSETFROM:+0100
TZOFFSETTO:+0200
TZNAME:CEST
DTSTART:20250330T010000
END:DAYLIGHT
BEGIN:STANDARD
TZOFFSETFROM:+0200
TZOFFSETTO:+0100
TZNAME:CET
DTSTART:20251026T010000
END:STANDARD
BEGIN:DAYLIGHT
TZOFFSETFROM:+0100
TZOFFSETTO:+0200
TZNAME:CEST
DTSTART:20260329T010000
END:DAYLIGHT
BEGIN:STANDARD
TZOFFSETFROM:+0200
TZOFFSETTO:+0100
TZNAME:CET
DTSTART:20261025T010000
END:STANDARD
BEGIN:DAYLIGHT
TZOFFSETFROM:+0100
TZOFFSETTO:+0200
TZNAME:CEST
DTSTART:20270328T010000
END:DAYLIGHT
BEGIN:STANDARD
TZOFFSETFROM:+0200
TZOFFSETTO:+0100
TZNAME:CET
DTSTART:20271031T010000
END:STANDARD
END:VTIMEZONE
BEGIN:VEVENT
DTSTART;TZID=Europe/Paris:20260314T190000
DTEND;TZID=Europe/Paris:20260314T190000
DTSTAMP:20260421T110752
CREATED:20260302T125143Z
LAST-MODIFIED:20260302T131506Z
UID:1309-1773514800-1773514800@www.quinte-et-sens.org
SUMMARY:Concert avec Paul Smith - VOCES8 SCHOLARS - SING'IN
DESCRIPTION:
URL:https://www.quinte-et-sens.org/evenement/concert-avec-paul-smith-voces8-scholars-singin/
LOCATION:Auditorium Saint-Pierre-des-Cuisines\, Toulouse\, 12\, place Saint-Pierre\, Toulouse\, 31000\, France
CATEGORIES:Concerts
ATTACH;FMTTYPE=image/jpeg:https://www.quinte-et-sens.org/wp-content/uploads/2026/03/IMG-20260208-WA0005.jpg
END:VEVENT
BEGIN:VEVENT
DTSTART;TZID=Europe/Paris:20251130T160000
DTEND;TZID=Europe/Paris:20251130T160000
DTSTAMP:20260421T110752
CREATED:20251107T152905Z
LAST-MODIFIED:20251115T184535Z
UID:1270-1764518400-1764518400@www.quinte-et-sens.org
SUMMARY:Concert "Voyage vocal à travers l'Europe"
DESCRIPTION:Rejoignez nous à l'église du Carla à Castelnau-de-Lévis\, le Dimanche 30 Novembre ! \nAu programme\, des œuvres des pays scandinaves\, de République tchèque\, d'Angleterre\, mais aussi françaises\, contemporaines\, Renaissance ou jazzy.
URL:https://www.quinte-et-sens.org/evenement/concert-voyage-vocal-a-travers-leurope-2/
LOCATION:Église du Carla\, Castelnau-de-Lévis\, 81150\, France
CATEGORIES:Concerts
ATTACH;FMTTYPE=image/png:https://www.quinte-et-sens.org/wp-content/uploads/2025/11/Capture-decran-du-2025-11-15-19-39-56.png
END:VEVENT
BEGIN:VEVENT
DTSTART;TZID=Europe/Paris:20251004T200000
DTEND;TZID=Europe/Paris:20251004T210000
DTSTAMP:20260421T110752
CREATED:20250914T145833Z
LAST-MODIFIED:20251107T152401Z
UID:1253-1759608000-1759611600@www.quinte-et-sens.org
SUMMARY:Concert "Voyage vocal à travers l'Europe"
DESCRIPTION:Rejoignez nous à l'église de la Madeleine à Albi\, le Samedi 4 Octobre 2025 à 20h ! \n  \nAu programme\, des œuvres des pays scandinaves\, de République tchèque\, d'Angleterre\, mais aussi françaises\, contemporaines\, Renaissance ou jazzy. \n 
URL:https://www.quinte-et-sens.org/evenement/concert-voyage-vocal-a-travers-leurope/
LOCATION:Eglise de la madeleine Albi
ATTACH;FMTTYPE=image/jpeg:https://www.quinte-et-sens.org/wp-content/uploads/2025/09/Concert_Albi.jpg
END:VEVENT
BEGIN:VEVENT
DTSTART;TZID=Europe/Paris:20250628T180000
DTEND;TZID=Europe/Paris:20250628T200000
DTSTAMP:20260421T110752
CREATED:20250603T175427Z
LAST-MODIFIED:20250603T175427Z
UID:1246-1751133600-1751140800@www.quinte-et-sens.org
SUMMARY:Concert au temple de Saint Antonin Noble Val
DESCRIPTION:Concert organisé par l'Atelier des Arts du Noble val\, le Samedi 28 Juin à 18h au temple de Saint Antonin Noble Val. \nAu programme\, un tour d'Europe avec des oeuvres de compositeurs tchèques\, hongrois\, lituaniens\, norvégiens\, ou encore français\, allant du sacré au folkorique en passant par le jazz. \nVenez nombreux!
URL:https://www.quinte-et-sens.org/evenement/concert-au-temple-de-saint-antonin-noble-val/
LOCATION:Temple protestant St-Antonin-Noble-Val\, Saint-Antonin-Noble-Val\, 82140
ATTACH;FMTTYPE=image/png:https://www.quinte-et-sens.org/wp-content/uploads/2025/06/Screenshot_20250603-194130.png
END:VEVENT
BEGIN:VEVENT
DTSTART;VALUE=DATE:20250529
DTEND;VALUE=DATE:20250601
DTSTAMP:20260421T110752
CREATED:20250417T150332Z
LAST-MODIFIED:20250417T150459Z
UID:1227-1748476800-1748735999@www.quinte-et-sens.org
SUMMARY:Folles journées polyphoniques
DESCRIPTION:Rejoignez nous \n\nau Ségur dans le Tarn le Jeudi 29 Mai à 11h\nA Lagarde Viaur -Montirat le Vendredi 30 Mai à 15h30\nà la grange de Canezac le Samedi 31 Mai à 17h
URL:https://www.quinte-et-sens.org/evenement/folles-journees-polyphoniques-29-30-et-31-mai/
ATTACH;FMTTYPE=image/jpeg:https://www.quinte-et-sens.org/wp-content/uploads/2025/04/Folles-journees-polyphoniques.jpg
END:VEVENT
BEGIN:VEVENT
DTSTART;TZID=Europe/Paris:20241207T203000
DTEND;TZID=Europe/Paris:20241227T203000
DTSTAMP:20260421T110752
CREATED:20241117T221826Z
LAST-MODIFIED:20241117T221921Z
UID:1212-1733603400-1735331400@www.quinte-et-sens.org
SUMMARY:Concert à l'abbaye de Saint Papoul
DESCRIPTION:Rendez vous le samedi 7 Décembre 2024 à l'abbaye de Saint Papoul à 20h30 pour notre dernier concert de l'année! \n 
URL:https://www.quinte-et-sens.org/evenement/concert-a-labbaye-de-saint-papoul/
LOCATION:Abbaye de Saint Papoul\, 5 Pl. Mgr de Langle\,\, Saint-Papoul\, 11400
ATTACH;FMTTYPE=image/jpeg:https://www.quinte-et-sens.org/wp-content/uploads/2024/11/Saint-Papoul.jpg
END:VEVENT
BEGIN:VEVENT
DTSTART;TZID=Europe/Paris:20241201T170000
DTEND;TZID=Europe/Paris:20241201T170000
DTSTAMP:20260421T110752
CREATED:20241117T221208Z
LAST-MODIFIED:20241117T221208Z
UID:1206-1733072400-1733072400@www.quinte-et-sens.org
SUMMARY:Concert partagé avec l'ensemble Elixir
DESCRIPTION:Rendez vous le dimanche 1er Décembre 2024 en l'église Saint Pierre de Quint Fonsegrives à 17h pour un moment de musique partagé avec l'ensemble Elixir dirigé par Clothilde Daubert! \n 
URL:https://www.quinte-et-sens.org/evenement/concert-partage-avec-lensemble-elixir/
LOCATION:Eglise Saint Pierre Quint Fonsegrives\, 2 Chem. de la Fontaine\,\, Quint-Fonsegrives\, 31130
ATTACH;FMTTYPE=image/jpeg:https://www.quinte-et-sens.org/wp-content/uploads/2024/11/Elixir.jpg
END:VEVENT
BEGIN:VEVENT
DTSTART;VALUE=DATE:20241122
DTEND;VALUE=DATE:20241125
DTSTAMP:20260421T110752
CREATED:20241117T215614Z
LAST-MODIFIED:20241117T220546Z
UID:1199-1732233600-1732492799@www.quinte-et-sens.org
SUMMARY:Saison de la Lituanie en France 2024
DESCRIPTION:Quinte et Sens participera à la semaine de la Lituanie en France\, en partenariat avec le conservatoire de Toulouse! \nAu programme : \nVendredi 22 Novembre 2024 \nConcert de restitution de la master-class de Vytautas Miškinis\nAuditorium Saint-Pierre des Cuisines\nHoraire : 20h \nSamedi 23 Novembre 2024 \nMarathon des choeurs \nLieu : Église Saint-Pierre des Chartreux\nHoraire : 15h30\nChœurs invités :\nEnsemble vocal Quinte & Sens et Chœur d’Enfants du Conservatoire (Frédéric Terrien\, direction) \nDimanche 24 Novembre 2024 \n« Dainu sventé ! » (La fête de chant) \nConcert :\nLieu : Halle aux Grains\nHoraire : 19h \nProgramme :\n1re partie : Maîtrise de Lituanie et Maîtrise de Toulouse (Mark Opstad\, direction)\n2è partie : Danseurs du Conservatoire à Rayonnement Régional Xavier Darasse de Toulouse\n3è partie : 9 chants lituaniens dirigés par 9 chefs différents :\n– Dainu Denele harm : Ciurlionis\n– Dainu Denele\n– Del tos dainos\n– Lakstingalu pilis\n– Vilties daina\n– Leliumai\, oi\, kas vaikscijo\n– Tevyne musu\n– Kur giria zaliuoja\n– Lietuva brangi \n  \nPlus d'infos par ici \n 
URL:https://www.quinte-et-sens.org/evenement/saison-de-la-lituanie-en-france-2024/
LOCATION:Toulouse
ATTACH;FMTTYPE=image/jpeg:https://www.quinte-et-sens.org/wp-content/uploads/2024/11/Lituanie.jpg
END:VEVENT
BEGIN:VEVENT
DTSTART;TZID=Europe/Paris:20231024T180000
DTEND;TZID=Europe/Paris:20231024T180000
DTSTAMP:20260421T110752
CREATED:20231017T190825Z
LAST-MODIFIED:20231017T190825Z
UID:1149-1698170400-1698170400@www.quinte-et-sens.org
SUMMARY:Concert (République Tchèque)
DESCRIPTION:
URL:https://www.quinte-et-sens.org/evenement/concert-republique-tcheque-2/
LOCATION:Eglise Kostel ČSCH Praha ulice Dykova\, Praha\, République Tchèque
CATEGORIES:Concerts
ATTACH;FMTTYPE=image/jpeg:https://www.quinte-et-sens.org/wp-content/uploads/2020/09/photo_2020.jpg
END:VEVENT
BEGIN:VEVENT
DTSTART;TZID=Europe/Paris:20231023T170000
DTEND;TZID=Europe/Paris:20231023T170000
DTSTAMP:20260421T110752
CREATED:20231017T190433Z
LAST-MODIFIED:20231017T190954Z
UID:1143-1698080400-1698080400@www.quinte-et-sens.org
SUMMARY:Concert (République Tchèque)
DESCRIPTION:
URL:https://www.quinte-et-sens.org/evenement/concert-republique-tcheque/
LOCATION:Eglise Kostel Jména Ježiš\, Telč\, République Tchèque
CATEGORIES:Concerts
ATTACH;FMTTYPE=image/jpeg:https://www.quinte-et-sens.org/wp-content/uploads/2023/10/IMG-20230927-WA0000.jpg
END:VEVENT
BEGIN:VEVENT
DTSTART;TZID=Europe/Paris:20231022T180000
DTEND;TZID=Europe/Paris:20231022T180000
DTSTAMP:20260421T110752
CREATED:20231017T185852Z
LAST-MODIFIED:20231017T185921Z
UID:1133-1697997600-1697997600@www.quinte-et-sens.org
SUMMARY:Concert (République Tchèque)
DESCRIPTION:
URL:https://www.quinte-et-sens.org/evenement/concert-5/
LOCATION:Eglise Kostel Sv.Ignác\, Jihlava\, République Tchèque
CATEGORIES:Concerts
ATTACH;FMTTYPE=image/png:https://www.quinte-et-sens.org/wp-content/uploads/2023/10/Capture-decran-du-2023-10-17-20-57-09.png
END:VEVENT
BEGIN:VEVENT
DTSTART;TZID=Europe/Paris:20231022T083000
DTEND;TZID=Europe/Paris:20231022T083000
DTSTAMP:20260421T110752
CREATED:20231017T185004Z
LAST-MODIFIED:20231017T185959Z
UID:1127-1697963400-1697963400@www.quinte-et-sens.org
SUMMARY:Concert (République Tchèque)
DESCRIPTION:
URL:https://www.quinte-et-sens.org/evenement/concert-4/
LOCATION:Eglise Sv.Ignác\, Jihlava\, République Tchèque
CATEGORIES:Concerts
ATTACH;FMTTYPE=image/jpeg:https://www.quinte-et-sens.org/wp-content/uploads/2020/09/photo_2020.jpg
END:VEVENT
BEGIN:VEVENT
DTSTART;TZID=Europe/Paris:20230624T200000
DTEND;TZID=Europe/Paris:20230624T200000
DTSTAMP:20260421T110752
CREATED:20230619T140937Z
LAST-MODIFIED:20230619T142005Z
UID:1118-1687636800-1687636800@www.quinte-et-sens.org
SUMMARY:Concert évènement - 100 ans du poète Yves Bonnefoy
DESCRIPTION:
URL:https://www.quinte-et-sens.org/evenement/concert-evenement-100-ans-du-poete-yves-bonnefoy/
LOCATION:Salle Ockeghem\, 15 place de Châteauneuf\, Tours\, 37000\, France
CATEGORIES:Concerts
ATTACH;FMTTYPE=image/png:https://www.quinte-et-sens.org/wp-content/uploads/2023/06/affiche-1-2.png
END:VEVENT
BEGIN:VEVENT
DTSTART;TZID=Europe/Paris:20230514T173000
DTEND;TZID=Europe/Paris:20230514T173000
DTSTAMP:20260421T110752
CREATED:20230501T094703Z
LAST-MODIFIED:20230509T132513Z
UID:1108-1684085400-1684085400@www.quinte-et-sens.org
SUMMARY:Concert
DESCRIPTION:
URL:https://www.quinte-et-sens.org/evenement/concert-3/
LOCATION:Chapelle de Massals\, Massals\, France
CATEGORIES:Concerts
ATTACH;FMTTYPE=image/jpeg:https://www.quinte-et-sens.org/wp-content/uploads/2023/05/IMG-20230502-WA0003.jpg
END:VEVENT
BEGIN:VEVENT
DTSTART;TZID=Europe/Paris:20230416T170000
DTEND;TZID=Europe/Paris:20230416T170000
DTSTAMP:20260421T110752
CREATED:20230403T083743Z
LAST-MODIFIED:20230407T084712Z
UID:1099-1681664400-1681664400@www.quinte-et-sens.org
SUMMARY:Concert partagé avec les Conférences Vocales
DESCRIPTION:
URL:https://www.quinte-et-sens.org/evenement/concert-partage-avec-les-conferences-vocales/
LOCATION:Église Saint-Nicolas\, 1 rue San Subra\, Toulouse\, 31300\, France
CATEGORIES:Concerts
ATTACH;FMTTYPE=image/jpeg:https://www.quinte-et-sens.org/wp-content/uploads/2023/04/IMG-20230404-WA0005.jpg
END:VEVENT
BEGIN:VEVENT
DTSTART;TZID=Europe/Paris:20230330T203000
DTEND;TZID=Europe/Paris:20230330T203000
DTSTAMP:20260421T110752
CREATED:20230312T220947Z
LAST-MODIFIED:20230312T220947Z
UID:1087-1680208200-1680208200@www.quinte-et-sens.org
SUMMARY:Concert
DESCRIPTION:
URL:https://www.quinte-et-sens.org/evenement/concert-2/
LOCATION:Temple protestant St-Antonin-Noble-Val\, Saint-Antonin-Noble-Val\, 82140
CATEGORIES:Concerts
ATTACH;FMTTYPE=image/jpeg:https://www.quinte-et-sens.org/wp-content/uploads/2023/03/affichQSsaintantonin-scaled.jpg
END:VEVENT
BEGIN:VEVENT
DTSTART;TZID=Europe/Paris:20230307T203000
DTEND;TZID=Europe/Paris:20230307T203000
DTSTAMP:20260421T110752
CREATED:20230120T085350Z
LAST-MODIFIED:20230120T085619Z
UID:1080-1678221000-1678221000@www.quinte-et-sens.org
SUMMARY:Concert : Le compagnon des étoiles
DESCRIPTION:
URL:https://www.quinte-et-sens.org/evenement/concert-le-compagnon-des-etoiles/
LOCATION:Église Saint-Pierre de Blagnac\, Place de l'Église\, Blagnac\, France\, 31700
CATEGORIES:Concerts
ATTACH;FMTTYPE=image/jpeg:https://www.quinte-et-sens.org/wp-content/uploads/2020/03/pochette-cd2.jpg
END:VEVENT
BEGIN:VEVENT
DTSTART;TZID=Europe/Paris:20230108T173000
DTEND;TZID=Europe/Paris:20230108T173000
DTSTAMP:20260421T110752
CREATED:20221107T131217Z
LAST-MODIFIED:20221219T143603Z
UID:1061-1673199000-1673199000@www.quinte-et-sens.org
SUMMARY:Concert partagé avec l'ensemble vocal Octambule
DESCRIPTION:
URL:https://www.quinte-et-sens.org/evenement/concert-partage-avec-lensemble-vocal-octambule-2/
LOCATION:Caragoudes\, Caragoudes\, France
CATEGORIES:Concerts
ATTACH;FMTTYPE=image/jpeg:https://www.quinte-et-sens.org/wp-content/uploads/2022/12/IMG-20221214-WA0002.jpg
END:VEVENT
BEGIN:VEVENT
DTSTART;TZID=Europe/Paris:20221215T203000
DTEND;TZID=Europe/Paris:20221215T203000
DTSTAMP:20260421T110752
CREATED:20221107T131639Z
LAST-MODIFIED:20221107T131639Z
UID:1065-1671136200-1671136200@www.quinte-et-sens.org
SUMMARY:Concert de Noël
DESCRIPTION:
URL:https://www.quinte-et-sens.org/evenement/concert-de-noel/
LOCATION:Église Saint-Pierre de Blagnac\, Place de l'Église\, Blagnac\, France\, 31700
ATTACH;FMTTYPE=image/jpeg:https://www.quinte-et-sens.org/wp-content/uploads/2020/09/photo_2020.jpg
END:VEVENT
BEGIN:VEVENT
DTSTART;TZID=Europe/Paris:20221204T170000
DTEND;TZID=Europe/Paris:20221204T170000
DTSTAMP:20260421T110752
CREATED:20221107T130903Z
LAST-MODIFIED:20221110T214728Z
UID:1057-1670173200-1670173200@www.quinte-et-sens.org
SUMMARY:Concert partagé avec l'ensemble vocal Octambule
DESCRIPTION:
URL:https://www.quinte-et-sens.org/evenement/concert-partage-avec-lensemble-vocal-octambule/
LOCATION:Église de Léguevin\, 2\, avenue de Clairefontaine\, Léguevin\, 31490\, France
CATEGORIES:Concerts
ATTACH;FMTTYPE=image/jpeg:https://www.quinte-et-sens.org/wp-content/uploads/2022/11/IMG-20221110-WA0010.jpg
END:VEVENT
BEGIN:VEVENT
DTSTART;TZID=Europe/Paris:20220723T203000
DTEND;TZID=Europe/Paris:20220723T203000
DTSTAMP:20260421T110752
CREATED:20220210T231519Z
LAST-MODIFIED:20220711T091208Z
UID:994-1658608200-1658608200@www.quinte-et-sens.org
SUMMARY:Concert d'été (Charente)
DESCRIPTION:
URL:https://www.quinte-et-sens.org/evenement/concert-association-tresors-de-labbaye/
LOCATION:Nanteuil-en-Vallée (16)\, Nanteuil-en-Vallée\, France\, 16700
CATEGORIES:Concerts
ATTACH;FMTTYPE=image/jpeg:https://www.quinte-et-sens.org/wp-content/uploads/2022/07/Affiche-Quinte-et-sens_23-juillet-2022.jpg
END:VEVENT
BEGIN:VEVENT
DTSTART;TZID=Europe/Paris:20220710T170000
DTEND;TZID=Europe/Paris:20220710T170000
DTSTAMP:20260421T110752
CREATED:20220626T132542Z
LAST-MODIFIED:20220626T132542Z
UID:1046-1657472400-1657472400@www.quinte-et-sens.org
SUMMARY:Concert d'été
DESCRIPTION:
URL:https://www.quinte-et-sens.org/evenement/concert-dete-2/
LOCATION:Église d’Agonès\, Agonès\, 34190
ATTACH;FMTTYPE=image/jpeg:https://www.quinte-et-sens.org/wp-content/uploads/2022/06/afficheLOWQS100722.jpg
END:VEVENT
BEGIN:VEVENT
DTSTART;TZID=Europe/Paris:20220709T203000
DTEND;TZID=Europe/Paris:20220709T203000
DTSTAMP:20260421T110752
CREATED:20220626T132146Z
LAST-MODIFIED:20220626T132146Z
UID:1042-1657398600-1657398600@www.quinte-et-sens.org
SUMMARY:Concert d'été
DESCRIPTION:
URL:https://www.quinte-et-sens.org/evenement/concert-dete/
LOCATION:Sanctuaire Notre-Dame du Suc\, Le Suc\, Brissac\, 34190
ATTACH;FMTTYPE=image/jpeg:https://www.quinte-et-sens.org/wp-content/uploads/2022/06/afficheLOWQS090722.jpg
END:VEVENT
BEGIN:VEVENT
DTSTART;VALUE=DATE:20220526
DTEND;VALUE=DATE:20220529
DTSTAMP:20260421T110752
CREATED:20220210T230004Z
LAST-MODIFIED:20220424T111214Z
UID:980-1653523200-1653782399@www.quinte-et-sens.org
SUMMARY:Concert - Folles Journées Polyphoniques
DESCRIPTION:
URL:https://www.quinte-et-sens.org/evenement/concert-folles-journees-polyphoniques/
LOCATION:Vallée du Viaur (Tarn\, Aveyron)
CATEGORIES:Concerts
ATTACH;FMTTYPE=image/png:https://www.quinte-et-sens.org/wp-content/uploads/2022/04/image001.png
END:VEVENT
BEGIN:VEVENT
DTSTART;TZID=Europe/Paris:20220413T193000
DTEND;TZID=Europe/Paris:20220413T193000
DTSTAMP:20260421T110752
CREATED:20220210T225229Z
LAST-MODIFIED:20220319T094652Z
UID:975-1649878200-1649878200@www.quinte-et-sens.org
SUMMARY:Petit concert intime (Tiny Desk)
DESCRIPTION:
URL:https://www.quinte-et-sens.org/evenement/concert-tiny-desk/
LOCATION:Librairie musicale Le Croquenotes\, 4 rue Jean Suau\, Toulouse\, France\, 31000
CATEGORIES:Concerts
ATTACH;FMTTYPE=image/png:https://www.quinte-et-sens.org/wp-content/uploads/2022/02/logo-croquenotes-fff.png
END:VEVENT
BEGIN:VEVENT
DTSTART;TZID=Europe/Paris:20220318T203000
DTEND;TZID=Europe/Paris:20220318T203000
DTSTAMP:20260421T110752
CREATED:20220210T231011Z
LAST-MODIFIED:20220304T204139Z
UID:989-1647635400-1647635400@www.quinte-et-sens.org
SUMMARY:Concert
DESCRIPTION:
URL:https://www.quinte-et-sens.org/evenement/concert/
LOCATION:Église Saint-Pierre de Blagnac\, Place de l'Église\, Blagnac\, France\, 31700
CATEGORIES:Concerts
ATTACH;FMTTYPE=image/jpeg:https://www.quinte-et-sens.org/wp-content/uploads/2022/03/IMG-20220304-WA0001.jpg
END:VEVENT
END:VCALENDAR