BEGIN:VCALENDAR
VERSION:2.0
PRODID:-//Quinte &amp; Sens - ECPv6.15.20//NONSGML v1.0//EN
CALSCALE:GREGORIAN
METHOD:PUBLISH
X-WR-CALNAME:Quinte &amp; Sens
X-ORIGINAL-URL:https://www.quinte-et-sens.org
X-WR-CALDESC:Évènements pour Quinte &amp; Sens
REFRESH-INTERVAL;VALUE=DURATION:PT1H
X-Robots-Tag:noindex
X-PUBLISHED-TTL:PT1H
BEGIN:VTIMEZONE
TZID:Europe/Paris
BEGIN:DAYLIGHT
TZOFFSETFROM:+0100
TZOFFSETTO:+0200
TZNAME:CEST
DTSTART:20220327T010000
END:DAYLIGHT
BEGIN:STANDARD
TZOFFSETFROM:+0200
TZOFFSETTO:+0100
TZNAME:CET
DTSTART:20221030T010000
END:STANDARD
BEGIN:DAYLIGHT
TZOFFSETFROM:+0100
TZOFFSETTO:+0200
TZNAME:CEST
DTSTART:20230326T010000
END:DAYLIGHT
BEGIN:STANDARD
TZOFFSETFROM:+0200
TZOFFSETTO:+0100
TZNAME:CET
DTSTART:20231029T010000
END:STANDARD
BEGIN:DAYLIGHT
TZOFFSETFROM:+0100
TZOFFSETTO:+0200
TZNAME:CEST
DTSTART:20240331T010000
END:DAYLIGHT
BEGIN:STANDARD
TZOFFSETFROM:+0200
TZOFFSETTO:+0100
TZNAME:CET
DTSTART:20241027T010000
END:STANDARD
END:VTIMEZONE
BEGIN:VEVENT
DTSTART;TZID=Europe/Paris:20230514T173000
DTEND;TZID=Europe/Paris:20230514T173000
DTSTAMP:20260422T011652
CREATED:20230501T094703Z
LAST-MODIFIED:20230509T132513Z
UID:1108-1684085400-1684085400@www.quinte-et-sens.org
SUMMARY:Concert
DESCRIPTION:
URL:https://www.quinte-et-sens.org/evenement/concert-3/
LOCATION:Chapelle de Massals\, Massals\, France
CATEGORIES:Concerts
ATTACH;FMTTYPE=image/jpeg:https://www.quinte-et-sens.org/wp-content/uploads/2023/05/IMG-20230502-WA0003.jpg
END:VEVENT
END:VCALENDAR