BEGIN:VCALENDAR
VERSION:2.0
PRODID:-//Quinte &amp; Sens - ECPv6.15.20//NONSGML v1.0//EN
CALSCALE:GREGORIAN
METHOD:PUBLISH
X-WR-CALNAME:Quinte &amp; Sens
X-ORIGINAL-URL:https://www.quinte-et-sens.org
X-WR-CALDESC:Évènements pour Quinte &amp; Sens
REFRESH-INTERVAL;VALUE=DURATION:PT1H
X-Robots-Tag:noindex
X-PUBLISHED-TTL:PT1H
BEGIN:VTIMEZONE
TZID:Europe/Paris
BEGIN:DAYLIGHT
TZOFFSETFROM:+0100
TZOFFSETTO:+0200
TZNAME:CEST
DTSTART:20220327T010000
END:DAYLIGHT
BEGIN:STANDARD
TZOFFSETFROM:+0200
TZOFFSETTO:+0100
TZNAME:CET
DTSTART:20221030T010000
END:STANDARD
BEGIN:DAYLIGHT
TZOFFSETFROM:+0100
TZOFFSETTO:+0200
TZNAME:CEST
DTSTART:20230326T010000
END:DAYLIGHT
BEGIN:STANDARD
TZOFFSETFROM:+0200
TZOFFSETTO:+0100
TZNAME:CET
DTSTART:20231029T010000
END:STANDARD
BEGIN:DAYLIGHT
TZOFFSETFROM:+0100
TZOFFSETTO:+0200
TZNAME:CEST
DTSTART:20240331T010000
END:DAYLIGHT
BEGIN:STANDARD
TZOFFSETFROM:+0200
TZOFFSETTO:+0100
TZNAME:CET
DTSTART:20241027T010000
END:STANDARD
END:VTIMEZONE
BEGIN:VEVENT
DTSTART;TZID=Europe/Paris:20230307T203000
DTEND;TZID=Europe/Paris:20230307T203000
DTSTAMP:20260422T043559
CREATED:20230120T085350Z
LAST-MODIFIED:20230120T085619Z
UID:1080-1678221000-1678221000@www.quinte-et-sens.org
SUMMARY:Concert : Le compagnon des étoiles
DESCRIPTION:
URL:https://www.quinte-et-sens.org/evenement/concert-le-compagnon-des-etoiles/
LOCATION:Église Saint-Pierre de Blagnac\, Place de l'Église\, Blagnac\, France\, 31700
CATEGORIES:Concerts
ATTACH;FMTTYPE=image/jpeg:https://www.quinte-et-sens.org/wp-content/uploads/2020/03/pochette-cd2.jpg
END:VEVENT
BEGIN:VEVENT
DTSTART;TZID=Europe/Paris:20230330T203000
DTEND;TZID=Europe/Paris:20230330T203000
DTSTAMP:20260422T043559
CREATED:20230312T220947Z
LAST-MODIFIED:20230312T220947Z
UID:1087-1680208200-1680208200@www.quinte-et-sens.org
SUMMARY:Concert
DESCRIPTION:
URL:https://www.quinte-et-sens.org/evenement/concert-2/
LOCATION:Temple protestant St-Antonin-Noble-Val\, Saint-Antonin-Noble-Val\, 82140
CATEGORIES:Concerts
ATTACH;FMTTYPE=image/jpeg:https://www.quinte-et-sens.org/wp-content/uploads/2023/03/affichQSsaintantonin-scaled.jpg
END:VEVENT
END:VCALENDAR