BEGIN:VCALENDAR
VERSION:2.0
PRODID:-//Quinte &amp; Sens - ECPv6.15.20//NONSGML v1.0//EN
CALSCALE:GREGORIAN
METHOD:PUBLISH
X-WR-CALNAME:Quinte &amp; Sens
X-ORIGINAL-URL:https://www.quinte-et-sens.org
X-WR-CALDESC:Évènements pour Quinte &amp; Sens
REFRESH-INTERVAL;VALUE=DURATION:PT1H
X-Robots-Tag:noindex
X-PUBLISHED-TTL:PT1H
BEGIN:VTIMEZONE
TZID:Europe/Paris
BEGIN:DAYLIGHT
TZOFFSETFROM:+0100
TZOFFSETTO:+0200
TZNAME:CEST
DTSTART:20240331T010000
END:DAYLIGHT
BEGIN:STANDARD
TZOFFSETFROM:+0200
TZOFFSETTO:+0100
TZNAME:CET
DTSTART:20241027T010000
END:STANDARD
BEGIN:DAYLIGHT
TZOFFSETFROM:+0100
TZOFFSETTO:+0200
TZNAME:CEST
DTSTART:20250330T010000
END:DAYLIGHT
BEGIN:STANDARD
TZOFFSETFROM:+0200
TZOFFSETTO:+0100
TZNAME:CET
DTSTART:20251026T010000
END:STANDARD
BEGIN:DAYLIGHT
TZOFFSETFROM:+0100
TZOFFSETTO:+0200
TZNAME:CEST
DTSTART:20260329T010000
END:DAYLIGHT
BEGIN:STANDARD
TZOFFSETFROM:+0200
TZOFFSETTO:+0100
TZNAME:CET
DTSTART:20261025T010000
END:STANDARD
END:VTIMEZONE
BEGIN:VEVENT
DTSTART;TZID=Europe/Paris:20251130T160000
DTEND;TZID=Europe/Paris:20251130T160000
DTSTAMP:20260421T122659
CREATED:20251107T152905Z
LAST-MODIFIED:20251115T184535Z
UID:1270-1764518400-1764518400@www.quinte-et-sens.org
SUMMARY:Concert "Voyage vocal à travers l'Europe"
DESCRIPTION:Rejoignez nous à l'église du Carla à Castelnau-de-Lévis\, le Dimanche 30 Novembre ! \nAu programme\, des œuvres des pays scandinaves\, de République tchèque\, d'Angleterre\, mais aussi françaises\, contemporaines\, Renaissance ou jazzy.
URL:https://www.quinte-et-sens.org/evenement/concert-voyage-vocal-a-travers-leurope-2/
LOCATION:Église du Carla\, Castelnau-de-Lévis\, 81150\, France
CATEGORIES:Concerts
ATTACH;FMTTYPE=image/png:https://www.quinte-et-sens.org/wp-content/uploads/2025/11/Capture-decran-du-2025-11-15-19-39-56.png
END:VEVENT
END:VCALENDAR