BEGIN:VCALENDAR
VERSION:2.0
PRODID:-//Quinte &amp; Sens - ECPv6.15.20//NONSGML v1.0//EN
CALSCALE:GREGORIAN
METHOD:PUBLISH
X-ORIGINAL-URL:https://www.quinte-et-sens.org
X-WR-CALDESC:Évènements pour Quinte &amp; Sens
REFRESH-INTERVAL;VALUE=DURATION:PT1H
X-Robots-Tag:noindex
X-PUBLISHED-TTL:PT1H
BEGIN:VTIMEZONE
TZID:Europe/Paris
BEGIN:DAYLIGHT
TZOFFSETFROM:+0100
TZOFFSETTO:+0200
TZNAME:CEST
DTSTART:20230326T010000
END:DAYLIGHT
BEGIN:STANDARD
TZOFFSETFROM:+0200
TZOFFSETTO:+0100
TZNAME:CET
DTSTART:20231029T010000
END:STANDARD
BEGIN:DAYLIGHT
TZOFFSETFROM:+0100
TZOFFSETTO:+0200
TZNAME:CEST
DTSTART:20240331T010000
END:DAYLIGHT
BEGIN:STANDARD
TZOFFSETFROM:+0200
TZOFFSETTO:+0100
TZNAME:CET
DTSTART:20241027T010000
END:STANDARD
BEGIN:DAYLIGHT
TZOFFSETFROM:+0100
TZOFFSETTO:+0200
TZNAME:CEST
DTSTART:20250330T010000
END:DAYLIGHT
BEGIN:STANDARD
TZOFFSETFROM:+0200
TZOFFSETTO:+0100
TZNAME:CET
DTSTART:20251026T010000
END:STANDARD
END:VTIMEZONE
BEGIN:VEVENT
DTSTART;TZID=Europe/Paris:20241207T203000
DTEND;TZID=Europe/Paris:20241227T203000
DTSTAMP:20260426T035912
CREATED:20241117T221826Z
LAST-MODIFIED:20241117T221921Z
UID:1212-1733603400-1735331400@www.quinte-et-sens.org
SUMMARY:Concert à l'abbaye de Saint Papoul
DESCRIPTION:Rendez vous le samedi 7 Décembre 2024 à l'abbaye de Saint Papoul à 20h30 pour notre dernier concert de l'année! \n 
URL:https://www.quinte-et-sens.org/evenement/concert-a-labbaye-de-saint-papoul/
LOCATION:Abbaye de Saint Papoul\, 5 Pl. Mgr de Langle\,\, Saint-Papoul\, 11400
ATTACH;FMTTYPE=image/jpeg:https://www.quinte-et-sens.org/wp-content/uploads/2024/11/Saint-Papoul.jpg
END:VEVENT
END:VCALENDAR