BEGIN:VCALENDAR
VERSION:2.0
PRODID:-//Quinte &amp; Sens - ECPv6.15.20//NONSGML v1.0//EN
CALSCALE:GREGORIAN
METHOD:PUBLISH
X-ORIGINAL-URL:https://www.quinte-et-sens.org
X-WR-CALDESC:Évènements pour Quinte &amp; Sens
REFRESH-INTERVAL;VALUE=DURATION:PT1H
X-Robots-Tag:noindex
X-PUBLISHED-TTL:PT1H
BEGIN:VTIMEZONE
TZID:Europe/Paris
BEGIN:DAYLIGHT
TZOFFSETFROM:+0100
TZOFFSETTO:+0200
TZNAME:CEST
DTSTART:20230326T010000
END:DAYLIGHT
BEGIN:STANDARD
TZOFFSETFROM:+0200
TZOFFSETTO:+0100
TZNAME:CET
DTSTART:20231029T010000
END:STANDARD
BEGIN:DAYLIGHT
TZOFFSETFROM:+0100
TZOFFSETTO:+0200
TZNAME:CEST
DTSTART:20240331T010000
END:DAYLIGHT
BEGIN:STANDARD
TZOFFSETFROM:+0200
TZOFFSETTO:+0100
TZNAME:CET
DTSTART:20241027T010000
END:STANDARD
BEGIN:DAYLIGHT
TZOFFSETFROM:+0100
TZOFFSETTO:+0200
TZNAME:CEST
DTSTART:20250330T010000
END:DAYLIGHT
BEGIN:STANDARD
TZOFFSETFROM:+0200
TZOFFSETTO:+0100
TZNAME:CET
DTSTART:20251026T010000
END:STANDARD
END:VTIMEZONE
BEGIN:VEVENT
DTSTART;TZID=Europe/Paris:20241201T170000
DTEND;TZID=Europe/Paris:20241201T170000
DTSTAMP:20260426T035232
CREATED:20241117T221208Z
LAST-MODIFIED:20241117T221208Z
UID:1206-1733072400-1733072400@www.quinte-et-sens.org
SUMMARY:Concert partagé avec l'ensemble Elixir
DESCRIPTION:Rendez vous le dimanche 1er Décembre 2024 en l'église Saint Pierre de Quint Fonsegrives à 17h pour un moment de musique partagé avec l'ensemble Elixir dirigé par Clothilde Daubert! \n 
URL:https://www.quinte-et-sens.org/evenement/concert-partage-avec-lensemble-elixir/
LOCATION:Eglise Saint Pierre Quint Fonsegrives\, 2 Chem. de la Fontaine\,\, Quint-Fonsegrives\, 31130
ATTACH;FMTTYPE=image/jpeg:https://www.quinte-et-sens.org/wp-content/uploads/2024/11/Elixir.jpg
END:VEVENT
END:VCALENDAR